BEGIN:VCALENDAR
VERSION:2.0
PRODID:-//Spirituele Psychologie, Nederlands - ECPv6.15.11//NONSGML v1.0//EN
CALSCALE:GREGORIAN
METHOD:PUBLISH
X-ORIGINAL-URL:https://issp.nu/nl
X-WR-CALDESC:Events for Spirituele Psychologie, Nederlands
REFRESH-INTERVAL;VALUE=DURATION:PT1H
X-Robots-Tag:noindex
X-PUBLISHED-TTL:PT1H
BEGIN:VTIMEZONE
TZID:UTC
BEGIN:STANDARD
TZOFFSETFROM:+0000
TZOFFSETTO:+0000
TZNAME:UTC
DTSTART:20190101T000000
END:STANDARD
END:VTIMEZONE
BEGIN:VEVENT
DTSTART;TZID=UTC:20201127T100000
DTEND;TZID=UTC:20201129T180000
DTSTAMP:20260425T162505
CREATED:20191012T094037Z
LAST-MODIFIED:20191226T115135Z
UID:1469-1606471200-1606672800@issp.nu
SUMMARY:Partnercursus IX - Bart ten Berge
DESCRIPTION:
URL:https://issp.nu/nl/event/partnercursus-ix-bart-ten-berge/
CATEGORIES:Haren,Nederlands,Open to all,Special
ATTACH;FMTTYPE=image/jpeg:https://issp.nu/nl/wp-content/uploads/2019/10/notfree.jpg
END:VEVENT
END:VCALENDAR