BEGIN:VCALENDAR
VERSION:2.0
PRODID:-//Spirituele Psychologie, Nederlands - ECPv6.15.11//NONSGML v1.0//EN
CALSCALE:GREGORIAN
METHOD:PUBLISH
X-WR-CALNAME:Spirituele Psychologie, Nederlands
X-ORIGINAL-URL:https://issp.nu/nl
X-WR-CALDESC:Events for Spirituele Psychologie, Nederlands
REFRESH-INTERVAL;VALUE=DURATION:PT1H
X-Robots-Tag:noindex
X-PUBLISHED-TTL:PT1H
BEGIN:VTIMEZONE
TZID:UTC
BEGIN:STANDARD
TZOFFSETFROM:+0000
TZOFFSETTO:+0000
TZNAME:UTC
DTSTART:20190101T000000
END:STANDARD
END:VTIMEZONE
BEGIN:VEVENT
DTSTART;TZID=UTC:20200415T190000
DTEND;TZID=UTC:20200415T213000
DTSTAMP:20260426T045135
CREATED:20200409T100832Z
LAST-MODIFIED:20200409T100832Z
UID:1577-1586977200-1586986200@issp.nu
SUMMARY:Global Meditation Online with Bart & Georgi
DESCRIPTION:(Time shown is in Holland) \nThe Root of All We Are\nWhen structures fall away\, including structures of routine\, habit\, and ritual\, we can find ourselves touching the formless. How to let this potentially spooky\, ungrounded experience become an opportunity for freshness\, inner freedom and grounding in a living authenticity that until now might have been clouded? \nOut of the field of pure possibility\, how would we like to reset our attitudes to life? \nInternational meeting through Zoom\, with an optional contribution of $10. \nPlease register in advance so we can technically guarantee space for everyone! \n[mk_button dimension=”three” size=”medium” outline_skin=”dark” bg_color=”#00c8d7″ text_color=”light” icon=”moon-quill” url=”https://app.acuityscheduling.com/schedule.php?owner=18252499&appointmentType=13835858″ target=”_self” align=”left” id=”Buton ID” margin_top=”0″ margin_bottom=”15″]Sign up![/mk_button]
URL:https://issp.nu/nl/event/global-meditation-online-with-bart-georgi/
LOCATION:Online
CATEGORIES:Den Haag,Engels,Haren,Meditatie,Online,Open to all,Special
ATTACH;FMTTYPE=image/jpeg:https://issp.nu/nl/wp-content/uploads/2020/04/international-space-station-1176518_1280.jpg
ORGANIZER;CN="Georgi Johnson":MAILTO:info@iamhere.life
END:VEVENT
BEGIN:VEVENT
DTSTART;TZID=UTC:20200425T100000
DTEND;TZID=UTC:20200426T180000
DTSTAMP:20260426T045135
CREATED:20200409T101742Z
LAST-MODIFIED:20200418T065343Z
UID:1582-1587808800-1587924000@issp.nu
SUMMARY:Grief\, Loss & the Flow of Life with Bart & Georgi
DESCRIPTION:[mk_button dimension=”three” size=”medium” outline_skin=”dark” bg_color=”#00c8d7″ text_color=”light” icon=”moon-quill” url=”https://app.acuityscheduling.com/schedule.php?owner=18252499&appointmentType=13848189″ target=”_self” align=”left” id=”Buton ID” margin_top=”0″ margin_bottom=”15″]ONLINE via ZOOM[/mk_button]\nTwo-day training and refresh to visit\, awaken and explore the Nondual approach to grief\, loss and dying. Working from the foundations of Spiritual Psychology and the primacy of consciousness\, Bart & Georgi are answering the current need for tools\, meditations and attitudes to support processes of grief and traumatic loss\, both for the individual and the collective. \nConducted online through Zoom\, there will be space for the processes of all participants\, as well as opportunities for direct connection\, and breaks between concentrated sessions (to avoid screen fatigue). \nWe hope that this timely workshop will also help support the new need for tools in online therapy and compassionate work. \nWe will be offering the same event to meet the need in other time zones\, according to need. \nPayment can be through Stripe\, Paypal (see registration link) or through a bank transfer: \nDe ISSP rekening: IBAN: NL 08 TRIO 0338 8445 62. \n[mk_button dimension=”three” size=”medium” outline_skin=”dark” bg_color=”#00c8d7″ text_color=”light” icon=”moon-quill” url=”https://app.acuityscheduling.com/schedule.php?owner=18252499&appointmentType=13848189″ target=”_self” align=”left” id=”Buton ID” margin_top=”0″ margin_bottom=”15″]Register[/mk_button]\n 
URL:https://issp.nu/nl/event/grief-loss-the-flow-of-life-with-bart-georgi/
LOCATION:Online
CATEGORIES:Engels,Online,Open to all,Professionals,Special
ATTACH;FMTTYPE=image/jpeg:https://issp.nu/nl/wp-content/uploads/2018/05/riet.jpg
END:VEVENT
END:VCALENDAR