BEGIN:VCALENDAR
VERSION:2.0
PRODID:-//Spirituele Psychologie, Nederlands - ECPv6.15.11//NONSGML v1.0//EN
CALSCALE:GREGORIAN
METHOD:PUBLISH
X-WR-CALNAME:Spirituele Psychologie, Nederlands
X-ORIGINAL-URL:https://issp.nu/nl
X-WR-CALDESC:Events for Spirituele Psychologie, Nederlands
REFRESH-INTERVAL;VALUE=DURATION:PT1H
X-Robots-Tag:noindex
X-PUBLISHED-TTL:PT1H
BEGIN:VTIMEZONE
TZID:UTC
BEGIN:STANDARD
TZOFFSETFROM:+0000
TZOFFSETTO:+0000
TZNAME:UTC
DTSTART:20190101T000000
END:STANDARD
END:VTIMEZONE
BEGIN:VEVENT
DTSTART;TZID=UTC:20200313T100000
DTEND;TZID=UTC:20200315T180000
DTSTAMP:20260426T063107
CREATED:20191226T120904Z
LAST-MODIFIED:20191226T120904Z
UID:1518-1584093600-1584295200@issp.nu
SUMMARY:Vrijheid\, Verlangen en Verslaving
DESCRIPTION:Een Driedaagse Special met Bart ten Berge\n\nDeze dagen zijn bedoelt voor mensen die met mensen werken\, maar ook om individueel een transformatie proces aan te gaan rondom verlangen en verslaving.\nDrie dagen intensief werken rondom de thema’s Vrijheid\, Verlangen en Verslaving vanuit een nonduaal\, transformerend perspectief:\n\n\nWat is de relatie tussen trauma en verslaving.\nHoe kan ik omgaan met verslavingen.\nWat is het verschil tussen verlangen en verslaving.\nHet transformerende vermogen van verlangens.\nDe relatie tussen vrijheid\, verlangen en verslaving.\n\n\nData: 13 t/m 15 Maart 2020\nTijd: 10.00 – 18.00 uur\nLocatie: de Biotoop\, gebouw G\,\nAdres: Kerklaan 30\, 9751 NN Haren.\nKosten: 350 euro\nKoffie\, thee en een vegetarische lunch worden verzorgd.\nOpgave: balthazar58@hotmail.com
URL:https://issp.nu/nl/event/vrijheid-verlangen-en-verslaving/
LOCATION:Haren\, biotoop\, Haren\, Groningen\, 9751 NN\, Netherlands
CATEGORIES:Haren,Nederlands,Special
ATTACH;FMTTYPE=image/jpeg:https://issp.nu/nl/wp-content/uploads/2019/12/IMG_4958-scaled-e1642853995564.jpg
END:VEVENT
BEGIN:VEVENT
DTSTART;TZID=UTC:20200328T200000
DTEND;TZID=UTC:20200328T210000
DTSTAMP:20260426T063107
CREATED:20200209T154533Z
LAST-MODIFIED:20200209T154950Z
UID:1531-1585425600-1585429200@issp.nu
SUMMARY:Earth hour
DESCRIPTION:Zaterdag 28 maart is er weer een meditatie uur in de Onlanden. \nWij hebben de aarde nodig\, maar de aarde heeft ons ook nodig. We maken contact met dankbaarheid voor de aarde en de natuur om ons. \nNeem vooral warme kleding mee en iets om op te zitten of liggen\, dat kan een krukje\,stoeltje of stukje plastic zijn. We lopen een klein stukje en gaan dan zitten of liggen. \nParkeren kan achter de Onlanderij Madijk 1 \nAanmelden kan per mail naar: paulivanengelen@hetnet.nl
URL:https://issp.nu/nl/event/earth-hour/
LOCATION:Onlanden\, Madijk 1\, Eelderwolde\, Drenthe\, Netherlands
CATEGORIES:Meditatie,Nederlands,Open to all,Special
ATTACH;FMTTYPE=image/gif:https://issp.nu/nl/wp-content/uploads/2020/02/4a8c0082c33a4bab093359629ce3c6cc.gif
ORGANIZER;CN="Pauli van Engelen":MAILTO:issp2020@gmail.com
END:VEVENT
END:VCALENDAR