BEGIN:VCALENDAR
VERSION:2.0
PRODID:-//Spirituele Psychologie, Nederlands - ECPv6.15.11//NONSGML v1.0//EN
CALSCALE:GREGORIAN
METHOD:PUBLISH
X-ORIGINAL-URL:https://issp.nu/nl
X-WR-CALDESC:Events for Spirituele Psychologie, Nederlands
REFRESH-INTERVAL;VALUE=DURATION:PT1H
X-Robots-Tag:noindex
X-PUBLISHED-TTL:PT1H
BEGIN:VTIMEZONE
TZID:Europe/Amsterdam
BEGIN:DAYLIGHT
TZOFFSETFROM:+0100
TZOFFSETTO:+0200
TZNAME:CEST
DTSTART:20240331T010000
END:DAYLIGHT
BEGIN:STANDARD
TZOFFSETFROM:+0200
TZOFFSETTO:+0100
TZNAME:CET
DTSTART:20241027T010000
END:STANDARD
BEGIN:DAYLIGHT
TZOFFSETFROM:+0100
TZOFFSETTO:+0200
TZNAME:CEST
DTSTART:20250330T010000
END:DAYLIGHT
BEGIN:STANDARD
TZOFFSETFROM:+0200
TZOFFSETTO:+0100
TZNAME:CET
DTSTART:20251026T010000
END:STANDARD
BEGIN:DAYLIGHT
TZOFFSETFROM:+0100
TZOFFSETTO:+0200
TZNAME:CEST
DTSTART:20260329T010000
END:DAYLIGHT
BEGIN:STANDARD
TZOFFSETFROM:+0200
TZOFFSETTO:+0100
TZNAME:CET
DTSTART:20261025T010000
END:STANDARD
END:VTIMEZONE
BEGIN:VEVENT
DTSTART;TZID=Europe/Amsterdam:20251018T100000
DTEND;TZID=Europe/Amsterdam:20251019T180000
DTSTAMP:20260421T155815
CREATED:20250821T191202Z
LAST-MODIFIED:20250821T194331Z
UID:1916-1760781600-1760896800@issp.nu
SUMMARY:Spirituele Psychologie Module 2 in Limburg met Inge Beaujean
DESCRIPTION:Meditatie ˙ Healing ˙ Energieleer ˙ Persoonlijke ontwikkeling \nTijdens deze opleiding leer je over de opbouw van ons energiesysteem en hoe je kunt werken met energie. Je ontdekt hoe je contact maakt met je eigen zelfhelend vermogen en hoe je dit kunt toepassen op mentaal\, emotioneel en fysiek niveau. \nJe verdiept je in jezelf en vindt de koers die écht bij je past. \nJe wordt uitgenodigd om je kwaliteiten te herkennen en meer in te zetten\, zowel in je dagelijks leven als je werk. \nSpirituele Psychologie module II is een module van de opleiding Spirituele Psychologie. Deze module kan los gevolgd worden. Heb je interesse? Dan kun je  ook aan één van de andere modules deelnemen (voorjaar 2026). \nThema’s die aan bod komen: \n\nEnergiebewustzijn: het inzetten van verschillende zintuigen in healing\nPrana-energie: herstel en versterking van je basisvitaliteit\nKwaliteitsaura: ontdek en verbind je met deze unieke dimensie van je aura\nChakra’s: verdieping van het contact met deze energiecentra\nGeloofsovertuigingen: hun invloed op jouw vitaliteit\nHealingmethoden: werken met energetische punten en energiestromen\n\nDeze thema’s worden zowel theoretisch als praktisch behandeld\, met oefeningen\, meditaties en partnerwerk\nJouw persoonlijke groeiproces krijgt hierbij volop aandacht. \nWanneer: 18 & 19 oktober en 8 & 9 november 2025.\nElke dag van 10-18 u. Inclusief koffie\, thee en lichte lunch.\nWaar: Roermond (adres na aanmelding). Goed bereikbaar met openbaar vervoer. Gratis parkeren bij komst met de auto.\nKosten: €499 voor 4 dagen \nAanmelden & informatie\nE-mail: info@ingebeaujean.com\nTelefoon / whatsapp:  +31 (0) 6 16347596.\nFacebook: Spirituele therapie\, Spiritual and Expat Counselling.
URL:https://issp.nu/nl/event/spirituele-psychologie-module-2-in-limburg/
LOCATION:Groningen
CATEGORIES:Limburg,Nederlands,Opleiding SP
ATTACH;FMTTYPE=image/png:https://issp.nu/nl/wp-content/uploads/2025/08/Copy-of-Quality-Mix-Template.png
ORGANIZER;CN="Inge Beaujean":MAILTO:info@ingebeaujean.com
END:VEVENT
END:VCALENDAR