BEGIN:VCALENDAR
VERSION:2.0
PRODID:-//Spirituele Psychologie, Nederlands - ECPv6.15.11//NONSGML v1.0//EN
CALSCALE:GREGORIAN
METHOD:PUBLISH
X-ORIGINAL-URL:https://issp.nu/nl
X-WR-CALDESC:Events for Spirituele Psychologie, Nederlands
REFRESH-INTERVAL;VALUE=DURATION:PT1H
X-Robots-Tag:noindex
X-PUBLISHED-TTL:PT1H
BEGIN:VTIMEZONE
TZID:UTC
BEGIN:STANDARD
TZOFFSETFROM:+0000
TZOFFSETTO:+0000
TZNAME:UTC
DTSTART:20190101T000000
END:STANDARD
END:VTIMEZONE
BEGIN:VEVENT
DTSTART;TZID=UTC:20200228T100000
DTEND;TZID=UTC:20200303T180000
DTSTAMP:20260426T045455
CREATED:20191012T090654Z
LAST-MODIFIED:20191226T115432Z
UID:1434-1582884000-1583258400@issp.nu
SUMMARY:Opleidingsblok SP VIII - Bart ten Berge
DESCRIPTION:
URL:https://issp.nu/nl/event/opleidingsblok-hp-viii/
LOCATION:Haren\, biotoop\, Haren\, Groningen\, 9751 NN\, Netherlands
CATEGORIES:Nederlands,Opleiding SP
ATTACH;FMTTYPE=image/jpeg:https://issp.nu/nl/wp-content/uploads/2019/10/the-background-662319_960_720.jpg
END:VEVENT
END:VCALENDAR