BEGIN:VCALENDAR
VERSION:2.0
PRODID:-//Spirituele Psychologie, Nederlands - ECPv6.15.11//NONSGML v1.0//EN
CALSCALE:GREGORIAN
METHOD:PUBLISH
X-WR-CALNAME:Spirituele Psychologie, Nederlands
X-ORIGINAL-URL:https://issp.nu/nl
X-WR-CALDESC:Events for Spirituele Psychologie, Nederlands
REFRESH-INTERVAL;VALUE=DURATION:PT1H
X-Robots-Tag:noindex
X-PUBLISHED-TTL:PT1H
BEGIN:VTIMEZONE
TZID:UTC
BEGIN:STANDARD
TZOFFSETFROM:+0000
TZOFFSETTO:+0000
TZNAME:UTC
DTSTART:20180101T000000
END:STANDARD
END:VTIMEZONE
BEGIN:VEVENT
DTSTART;TZID=UTC:20190426T193000
DTEND;TZID=UTC:20190429T221500
DTSTAMP:20260423T084300
CREATED:20190219T173659Z
LAST-MODIFIED:20190314T165911Z
UID:1145-1556307000-1556576100@issp.nu
SUMMARY:Spirituele psychologie
DESCRIPTION:Eerste module \nTijdens deze cursus doen we meditaties om onze sensitiviteit te onderzoeken en te balanceren. En leer je meer over de opbouw van ons energiesysteem.\nDeelnemers krijgen de mogelijkheid om zichzelf persoonlijk te ontwikkelen en het is mogelijk om therapeutisch te leren werken. Meditatie\, spirituele psychologie en het werken met energie staan hierbij centraal. \n\nIntegratie van je ware zelf in het dagelijks leven\nVerfijn je intuïtie en verdiep je ervaring\nLeer technieken van de spiritual healing traditie (bewuste aanraking)\nZie\, hoor en raak subtiele energie\nOpen de vrijheid van het denken\nOntspan dieper in het hier en nu\n\nNa dit weekend is het mogelijk om mee te doen met een langer traject. \n\n Je kunt je voor dit weekend inschrijven via de contactpagina.\n\nMeer informatie lees je hier: http://www.meditatie-en-innerlijke-groei.nl/leergangen-en-opleiding-meditatie/
URL:https://issp.nu/nl/event/spirituele-psychologie/
LOCATION:Spirituele psychologie\, Noorderhaven 32\, Groningen\, Groningen\, 9728 XM\, Netherlands
CATEGORIES:Meditatie,Opleiding SP,Professionals,Special
ATTACH;FMTTYPE=image/jpeg:https://issp.nu/nl/wp-content/uploads/2015/11/1510463_680571878659651_737149177_n.jpg
ORGANIZER;CN="Pauli van Engelen":MAILTO:issp2020@gmail.com
END:VEVENT
END:VCALENDAR