BEGIN:VCALENDAR
VERSION:2.0
PRODID:-//Spirituele Psychologie, Nederlands - ECPv6.15.11//NONSGML v1.0//EN
CALSCALE:GREGORIAN
METHOD:PUBLISH
X-ORIGINAL-URL:https://issp.nu/nl
X-WR-CALDESC:Events for Spirituele Psychologie, Nederlands
REFRESH-INTERVAL;VALUE=DURATION:PT1H
X-Robots-Tag:noindex
X-PUBLISHED-TTL:PT1H
BEGIN:VTIMEZONE
TZID:UTC
BEGIN:STANDARD
TZOFFSETFROM:+0000
TZOFFSETTO:+0000
TZNAME:UTC
DTSTART:20190101T000000
END:STANDARD
END:VTIMEZONE
BEGIN:VEVENT
DTSTART;TZID=UTC:20200105T200000
DTEND;TZID=UTC:20200105T213000
DTSTAMP:20260422T182458
CREATED:20191226T120154Z
LAST-MODIFIED:20191226T120154Z
UID:1515-1578254400-1578259800@issp.nu
SUMMARY:Nieuwjaarsmeditatie
DESCRIPTION:Op zondagavond 5 Januari is er weer een gezamelijke nieuwjaarsmeditatie in de Biotoop.\nDe avond begint om 20.00 uur en zal ongeveer om 21.30 afgelopen zijn.\nDe kosten zijn 10 euro.\nIedereen is van harte welkom\, maar geef je wel op! Het kan vol zijn.
URL:https://issp.nu/nl/event/nieuwjaarsmeditatie/
LOCATION:Haren\, biotoop\, Haren\, Groningen\, 9751 NN\, Netherlands
CATEGORIES:Haren,Meditatie,Nederlands,Open to all
ATTACH;FMTTYPE=image/jpeg:https://issp.nu/nl/wp-content/uploads/2019/12/15390998_10154770629528185_1654576000674743203_n-1.jpg
ORGANIZER;CN="Pauli van Engelen":MAILTO:issp2020@gmail.com
END:VEVENT
END:VCALENDAR