BEGIN:VCALENDAR
VERSION:2.0
PRODID:-//Spirituele Psychologie, Nederlands - ECPv6.15.11//NONSGML v1.0//EN
CALSCALE:GREGORIAN
METHOD:PUBLISH
X-WR-CALNAME:Spirituele Psychologie, Nederlands
X-ORIGINAL-URL:https://issp.nu/nl
X-WR-CALDESC:Events for Spirituele Psychologie, Nederlands
REFRESH-INTERVAL;VALUE=DURATION:PT1H
X-Robots-Tag:noindex
X-PUBLISHED-TTL:PT1H
BEGIN:VTIMEZONE
TZID:UTC
BEGIN:STANDARD
TZOFFSETFROM:+0000
TZOFFSETTO:+0000
TZNAME:UTC
DTSTART:20180101T000000
END:STANDARD
END:VTIMEZONE
BEGIN:VEVENT
DTSTART;TZID=UTC:20191118T100000
DTEND;TZID=UTC:20191118T180000
DTSTAMP:20260422T213908
CREATED:20190324T112147Z
LAST-MODIFIED:20190324T112238Z
UID:1279-1574071200-1574100000@issp.nu
SUMMARY:Introductiedag Spirituele Psychologie
DESCRIPTION:Introductiedagen Spirituele Psychologie 2019 \nWe willen jullie graag welkom heten op de introductiedagen van de ISSP opleiding. Op deze dagen bieden wij de mogelijkheid om een lesdag van de opleiding mee te maken met oefeningen en meditaties. Daarnaast is er uitleg over de achtergrond van de opleiding Spirituele Psychologie. \nIn Haren zijn de introductiedagen op: \n20 mei en 18 november 2019
URL:https://issp.nu/nl/event/introductiedag-spirituele-psychologie-2/
LOCATION:Haren\, biotoop\, Haren\, Groningen\, 9751 NN\, Netherlands
CATEGORIES:Meditatie,Open to all
ATTACH;FMTTYPE=image/jpeg:https://issp.nu/nl/wp-content/uploads/2019/03/open-dag-20-mei-ISSP.jpg
END:VEVENT
BEGIN:VEVENT
DTSTART;TZID=UTC:20191130T100000
DTEND;TZID=UTC:20191201T180000
DTSTAMP:20260422T213908
CREATED:20190509T185944Z
LAST-MODIFIED:20191226T115415Z
UID:1345-1575108000-1575223200@issp.nu
SUMMARY:Meditation Intensive - Bart ten Berge
DESCRIPTION:In deze dagen verdiepen ons contact met onze kernkwaliteiten en de oneindige schoonheid van het goddelijke in ons door middel van langere meditaties. \nData: 30 November en 1 December 2019\nTijd: 10.00 – 18.00 uur\nLocatie: de Biotoop\, gebouw G\,\nAdres: Kerklaan 30\, 9751 NN Haren.\nKosten: 250 euro\nKoffie\, thee en een vegetarische lunch worden verzorgd.\nOpgave: balthazar58@hotmail.com \nIk verheug me erop jullie dan (weer) te ontmoeten! \nMet hartelijke groet\, \nBart
URL:https://issp.nu/nl/event/meditation-intensive/
LOCATION:Haren\, biotoop\, Haren\, Groningen\, 9751 NN\, Netherlands
CATEGORIES:Meditatie,Nederlands,Open to all
ATTACH;FMTTYPE=image/jpeg:https://issp.nu/nl/wp-content/uploads/2019/05/IMG_3698-Copy-Copy.jpg
END:VEVENT
END:VCALENDAR